View In:
ArcGIS JavaScript
ArcGIS Online Map Viewer
ArcGIS Earth
Service Description: Regenbui_waterdiepte_125mm_24uur
Name: Regenbui_waterdiepte_125mm_24uur
Description:
Single Fused Map Cache: false
Extent:
XMin: 198410.5
YMin: 498295
XMax: 209652
YMax: 508037.5
Spatial Reference: 28992
(28992)
Initial Extent:
XMin: 198410.5
YMin: 498295
XMax: 209652
YMax: 508037.5
Spatial Reference: 28992
(28992)
Full Extent:
XMin: 198410.5
YMin: 498295
XMax: 209652
YMax: 508037.5
Spatial Reference: 28992
(28992)
Pixel Size X: 0.5
Pixel Size Y: 0.5
Band Count: 1
Pixel Type: F32
RasterFunction Infos: {"rasterFunctionInfos": [{
"name": "None",
"description": "",
"help": ""
}]}
Mensuration Capabilities: Basic
Has Histograms: true
Has Colormap: false
Has Multi Dimensions : false
Rendering Rule:
Min Scale: 0
Max Scale: 0
Copyright Text:
Service Data Type: esriImageServiceDataTypeGeneric
Min Values: 0
Max Values: 3.943922996520996
Mean Values: 0.23955140882365183
Standard Deviation Values: 0.22231940690319626
Object ID Field:
Fields:
None
Default Mosaic Method: Center
Allowed Mosaic Methods:
SortField:
SortValue: null
Mosaic Operator: First
Default Compression Quality: 75
Default Resampling Method: Bilinear
Max Record Count: null
Max Image Height: 4100
Max Image Width: 15000
Max Download Image Count: null
Max Mosaic Image Count: null
Allow Raster Function: true
Allow Copy: true
Allow Analysis: true
Allow Compute TiePoints: false
Supports Statistics: false
Supports Advanced Queries: false
Use StandardizedQueries: true
Raster Type Infos:
Name: Raster Dataset
Description: Supports all ArcGIS Raster Datasets
Help:
Has Raster Attribute Table: false
Edit Fields Info: null
Ownership Based AccessControl For Rasters: null
Child Resources:
Info
Histograms
Statistics
Key Properties
Legend
Raster Function Infos
Supported Operations:
Export Image
Identify
Measure
Compute Histograms
Compute Statistics Histograms
Get Samples
Compute Class Statistics
Query Boundary
Compute Pixel Location
Compute Angles
Validate
Project